BEGIN:VCALENDAR
VERSION:2.0
PRODID:-//Alphalive Schweiz - ECPv6.15.14//NONSGML v1.0//EN
CALSCALE:GREGORIAN
METHOD:PUBLISH
X-WR-CALNAME:Alphalive Schweiz
X-ORIGINAL-URL:https://de.alphalive.ch
X-WR-CALDESC:Veranstaltungen im Alphalive Schweiz
REFRESH-INTERVAL;VALUE=DURATION:PT1H
X-Robots-Tag:noindex
X-PUBLISHED-TTL:PT1H
BEGIN:VTIMEZONE
TZID:Europe/Paris
BEGIN:DAYLIGHT
TZOFFSETFROM:+0100
TZOFFSETTO:+0200
TZNAME:CEST
DTSTART:20250330T010000
END:DAYLIGHT
BEGIN:STANDARD
TZOFFSETFROM:+0200
TZOFFSETTO:+0100
TZNAME:CET
DTSTART:20251026T010000
END:STANDARD
BEGIN:DAYLIGHT
TZOFFSETFROM:+0100
TZOFFSETTO:+0200
TZNAME:CEST
DTSTART:20260329T010000
END:DAYLIGHT
BEGIN:STANDARD
TZOFFSETFROM:+0200
TZOFFSETTO:+0100
TZNAME:CET
DTSTART:20261025T010000
END:STANDARD
BEGIN:DAYLIGHT
TZOFFSETFROM:+0100
TZOFFSETTO:+0200
TZNAME:CEST
DTSTART:20270328T010000
END:DAYLIGHT
BEGIN:STANDARD
TZOFFSETFROM:+0200
TZOFFSETTO:+0100
TZNAME:CET
DTSTART:20271031T010000
END:STANDARD
END:VTIMEZONE
BEGIN:VEVENT
DTSTART;TZID=Europe/Paris:20260325T191500
DTEND;TZID=Europe/Paris:20260325T194500
DTSTAMP:20260421T181805
CREATED:20260129T103919Z
LAST-MODIFIED:20260130T215715Z
UID:6036-1774466100-1774467900@de.alphalive.ch
SUMMARY:Alphalive YOUTH Learning Community – Thema «Ein starkes Team»
DESCRIPTION:Alphalive YOUTH ist eine zeitgemässe Möglichkeit um mit jungen Leuten über Leben\, Glaube und Sinn zu sprechen.In unserer Learning Community profitieren wir von den Erfahrungen\, die wir in den unterschiedlichsten Kontexten gesammelt haben. \n\n\n\nDieses Treffen eignet sich für alle\, die von anderen Anbietern von Alphalive YOUTH lernen und ihr Wissen vertiefen möchten. \n\n\n\nOrt\, Kosten und Anmeldung:\n\n\n\nDieses Treffen findet Online via Zoom statt. Der Link dazu wird dir vor dem Treffen zugesendet.Die Teilnahme ist kostenlos. Wir freuen uns jedoch über jede Spende\, die weitere Projekte und Trainings ermöglicht. \n\n\n\nJETZT ANMELDEN \n\n\n\nAnmeldeschluss: 24. März 2026
URL:https://de.alphalive.ch/event/alphalive-youth-learning-community-thema-ein-erfolgreiches-team/
ATTACH;FMTTYPE=image/png:https://de.alphalive.ch/wp-content/uploads/sites/35/2026/01/Youth-LearningCommunity.png
END:VEVENT
BEGIN:VEVENT
DTSTART;TZID=Europe/Paris:20260318T190000
DTEND;TZID=Europe/Paris:20260318T203000
DTSTAMP:20260421T181805
CREATED:20260209T105802Z
LAST-MODIFIED:20260217T100731Z
UID:6057-1773860400-1773865800@de.alphalive.ch
SUMMARY:MasterClass: Alpha im katholischen Kontext | online
DESCRIPTION:Thema: Visionäre Teamentwicklung – Das ganze Team zu Leitenden machen \n\n\n\nZielgruppe: Du hast das Grundlagentraining und mindestens einen Alpha hinter dir. Du möchtest Jünger formen\, die ihr Leben auf Christus ausrichten. \n\n\n\nDieser Anlass wird von unseren Partnern Alpha Deutschland und Divine Renovation angeboten. Weitere Infos und Anmeldemöglichkeit findest du hier: MasterClass Katholischer Kontext
URL:https://de.alphalive.ch/event/masterclass-alpha-im-katholischen-kontext-online/
ATTACH;FMTTYPE=image/jpeg:https://de.alphalive.ch/wp-content/uploads/sites/35/2026/02/Training-Zuerich.jpg
END:VEVENT
BEGIN:VEVENT
DTSTART;TZID=Europe/Paris:20260212T191500
DTEND;TZID=Europe/Paris:20260212T194500
DTSTAMP:20260421T181805
CREATED:20260128T164509Z
LAST-MODIFIED:20260129T104034Z
UID:6012-1770923700-1770925500@de.alphalive.ch
SUMMARY:Alphalive YOUTH Learning Community - Thema "Erfolgreich einladen"
DESCRIPTION:Alphalive YOUTH ist eine zeitgemässe Möglichkeit um mit jungen Leuten über Leben\, Glaube und Sinn zu sprechen.In unserer Learning Community profitieren wir von den Erfahrungen\, die wir in den unterschiedlichsten Kontexten gesammelt haben. \n\n\n\nDieses Treffen eignet sich für alle\, die von anderen Anbietern von Alphalive YOUTH lernen und ihr Wissen vertiefen möchten. \n\n\n\nOrt\, Kosten und Anmeldung:\n\n\n\nDieses Treffen findet Online via Zoom statt. Der Link dazu wird dir vor dem Treffen zugesendet.Die Teilnahme ist kostenlos. Wir freuen uns jedoch über jede Spende\, die weitere Projekte und Trainings ermöglicht. \n\n\n\nJETZT ANMELDEN \n\n\n\nAnmeldeschluss: 11. Februar 2026
URL:https://de.alphalive.ch/event/alphalive-youth-learning-community-thema-einladen/
ATTACH;FMTTYPE=image/png:https://de.alphalive.ch/wp-content/uploads/sites/35/2026/01/Youth-LearningCommunity.png
END:VEVENT
BEGIN:VEVENT
DTSTART;TZID=Europe/Paris:20260127T190000
DTEND;TZID=Europe/Paris:20260127T210000
DTSTAMP:20260421T181805
CREATED:20251212T135218Z
LAST-MODIFIED:20251212T135406Z
UID:5872-1769540400-1769547600@de.alphalive.ch
SUMMARY:Alphalive Online-Training - 27. Januar 2026
DESCRIPTION:Wie gelingt mein Alphalive? Wie schaffe ich für Gäste und Team ein tolles Erlebnis\, das Freude auf mehr macht? Was muss ich im Vorfeld alles beachten\, wie kann ich starten? \n\n\n\nDie besten Alphalive-Treffen werden von gut geschulten\, starken Teams veranstaltet. In diesem Alphalive Training lernst du alle praktischen Schritte für ein gutes Gelingen deines Alphalive. Ob du zum ersten Mal Alphalive anbieten oder deine Gastgeber-Skills verbessern möchtest\, du wirst bestimmt profitieren. Nimm am besten dein ganzes Alphalive-Team mit ans Training. \n\n\n\nThematisch dreht sich der Abend um die Best Practices von Alphalive: unsere Vision und Haltung\, Aufbau eines Teams\, Organisation der Treffen\, Leitung der Kleingruppen und Begleitung der Gäste. Du hörst von Erfahrungsberichten und lernst die sieben Fehler\, die es unbedingt zu vermeiden gilt. So wirst du praktisch zugerüstet für deinen eigenen Alphalive. \n\n\n\n \n\n\n\nWo und Wann:\n\n\n\n\nDienstag\, 27. Januar 2026\n\n\n\nZeit: 19:00 bis 21:00 Uhr\n\n\n\nOrt: Online via Zoom\n\n\n\n\nZielpublikum:\n\n\n\nAlphalive Leiter/innen und Teammitglieder: \n\n\n\n\ndie einen Alphalive anbieten möchten\,\n\n\n\ndie Alphalive bereits durchführen und von den neusten Erfahrungen und «Best Practices» lernen möchten\,\n\n\n\ndie neue Teammitglieder schulen möchten.\n\n\n\n\nKosten und Anmeldung:\n\n\n\nKeine Kosten. \n\n\n\nJETZT ANMELDEN \n\n\n\nDen Zoom-Link zur Teilnahme am Treffen erhältst du nach deiner Anmeldung und kurz vor der Schulung auf die angegebene E-Mail-Adresse. \n\n\n\nAnmeldeschluss: 26. Januar 2026
URL:https://de.alphalive.ch/event/alphalive-online-training-27-januar-2026/
END:VEVENT
END:VCALENDAR